BEGIN:VCALENDAR
VERSION:2.0
PRODID:-//ICON Jazz Lounge - ECPv6.15.17//NONSGML v1.0//EN
CALSCALE:GREGORIAN
METHOD:PUBLISH
X-WR-CALNAME:ICON Jazz Lounge
X-ORIGINAL-URL:https://iconjl.com
X-WR-CALDESC:Events for ICON Jazz Lounge
REFRESH-INTERVAL;VALUE=DURATION:PT1H
X-Robots-Tag:noindex
X-PUBLISHED-TTL:PT1H
BEGIN:VTIMEZONE
TZID:America/New_York
BEGIN:DAYLIGHT
TZOFFSETFROM:-0500
TZOFFSETTO:-0400
TZNAME:EDT
DTSTART:20240310T070000
END:DAYLIGHT
BEGIN:STANDARD
TZOFFSETFROM:-0400
TZOFFSETTO:-0500
TZNAME:EST
DTSTART:20241103T060000
END:STANDARD
BEGIN:DAYLIGHT
TZOFFSETFROM:-0500
TZOFFSETTO:-0400
TZNAME:EDT
DTSTART:20250309T070000
END:DAYLIGHT
BEGIN:STANDARD
TZOFFSETFROM:-0400
TZOFFSETTO:-0500
TZNAME:EST
DTSTART:20251102T060000
END:STANDARD
BEGIN:DAYLIGHT
TZOFFSETFROM:-0500
TZOFFSETTO:-0400
TZNAME:EDT
DTSTART:20260308T070000
END:DAYLIGHT
BEGIN:STANDARD
TZOFFSETFROM:-0400
TZOFFSETTO:-0500
TZNAME:EST
DTSTART:20261101T060000
END:STANDARD
END:VTIMEZONE
BEGIN:VEVENT
DTSTART;VALUE=DATE:20250810
DTEND;VALUE=DATE:20250811
DTSTAMP:20260425T182845
CREATED:20250620T012645Z
LAST-MODIFIED:20250620T215142Z
UID:802-1754784000-1754870399@iconjl.com
SUMMARY:RiShon Odel & The 5th Element
DESCRIPTION:RiShon Odel is perhaps one of the most creative talents in this era\, having recently enjoyed the titles of #1 MOST ADDED ON SMOOTHJAZZ.COM and #1 ON BILLBOARD’S SMOOTH JAZZ CHARTS for his writing on “XX” (Brian Culbertson) and “You\, Me & Forever” (multi-GRAMMY® award-nominee Najee). In addition to appearing in such major motion pictures such as Marshall and Breathe\, the multi-instrumentalist\, composer\, and producer is most known for his high energy and charisma onstage. \nRiShon Odel has toured with smooth-jazz icon Brian Culbertson and legendary saxophonist Najee\, and he is the Musical Director for Canadian pop sensation Julius Wilson. Odel is a member of the International Society of Bassists and endorses DR “Black Beauties” Strings. He has traveled and recorded with a pastiche of great artists throughout his career\, including Cissy Houston\, Marvin Winans\, Riley Richard\, Phil Perry\, Me’Lisa Morgan\, Donnie McClurkin\, Special Gift and (Love & Hip-Hop star) “Stevie J” Jordan. \n​Odel burst onto the music scene in 2006 with an arco bass piece performed at the opening of the JoAnn Faletta International Guitar Competition alongside the Buffalo Select Chorus. Having authored his first instructional Book of Bass Volume 1 (Dorrance Publishing)\, and conducted his first orchestra in 2009 and in the same year was nominated “Best Classical Musician” by Artvoice magazine. Odel has composed music for the Eastman String Quartet\, Buffalo State College Symphonic Band and The Ieda String Ensemble; which he used to score the “Less Than Perfect\,” produced by film legend Reuben Santiago. In 2010\, Odel released a DVD documentary on Jazz History which is available in the SUNY Interlibrary loan system under both History and Criticism. The DVD features band members of the late Charles Mingus’ tour band. \nHaving such a vast love of music\, Odel started his musical career with just a few trips to the music store which expanded into drum workshops and videos with drumming legends Liberty DeVito\, Dom Famularo and LaDell Abrams. Within his first year of playing Odel got his first professional gig with Malaco recording artist “Georgia Mass Choir\,” filling in for Alex Evans (Patti Labelle\, Whitney Houston). \nWhen he is not playing or composing\, Odel conducts workshops and clinics throughout the U. S.\, Canada and other territories. His teaching record consists of vocal and instrumental students that have gone on to Howard University\, Berklee College of Music\, Buffalo State College\, Michigan State\, and more. \nHere is his latest single “LOVIN’ YOU – RISHON ODEL feat. WILLIE SOUL“
URL:https://iconjl.com/event/rishon-odel/
LOCATION:ICON Jazz Lounge\, 1135 N High St\, Columbus\, OH\, 43201\, United States
ATTACH;FMTTYPE=image/webp:https://iconjl.com/wp-content/uploads/2025/06/RiShon-Odel-scaled.webp
END:VEVENT
END:VCALENDAR