BEGIN:VCALENDAR
VERSION:2.0
PRODID:-//ICON Jazz Lounge - ECPv6.15.17//NONSGML v1.0//EN
CALSCALE:GREGORIAN
METHOD:PUBLISH
X-ORIGINAL-URL:https://iconjl.com
X-WR-CALDESC:Events for ICON Jazz Lounge
REFRESH-INTERVAL;VALUE=DURATION:PT1H
X-Robots-Tag:noindex
X-PUBLISHED-TTL:PT1H
BEGIN:VTIMEZONE
TZID:America/New_York
BEGIN:DAYLIGHT
TZOFFSETFROM:-0500
TZOFFSETTO:-0400
TZNAME:EDT
DTSTART:20240310T070000
END:DAYLIGHT
BEGIN:STANDARD
TZOFFSETFROM:-0400
TZOFFSETTO:-0500
TZNAME:EST
DTSTART:20241103T060000
END:STANDARD
BEGIN:DAYLIGHT
TZOFFSETFROM:-0500
TZOFFSETTO:-0400
TZNAME:EDT
DTSTART:20250309T070000
END:DAYLIGHT
BEGIN:STANDARD
TZOFFSETFROM:-0400
TZOFFSETTO:-0500
TZNAME:EST
DTSTART:20251102T060000
END:STANDARD
BEGIN:DAYLIGHT
TZOFFSETFROM:-0500
TZOFFSETTO:-0400
TZNAME:EDT
DTSTART:20260308T070000
END:DAYLIGHT
BEGIN:STANDARD
TZOFFSETFROM:-0400
TZOFFSETTO:-0500
TZNAME:EST
DTSTART:20261101T060000
END:STANDARD
END:VTIMEZONE
BEGIN:VEVENT
DTSTART;VALUE=DATE:20250829
DTEND;VALUE=DATE:20250830
DTSTAMP:20260425T183003
CREATED:20250607T062815Z
LAST-MODIFIED:20250620T215829Z
UID:183-1756425600-1756511999@iconjl.com
SUMMARY:Walter K (from MojoFlo)
DESCRIPTION:Walter K is one of Columbus’ premier saxophonists\, known for screaming sax notes and high energy performances.   As a founding member of the neo-funk band MojoFlo\, Walter has performed all over the country while also serving as a business manager\, songwriter\, and producer.  MojoFlo’s debut full-length album What It Is will be released May 7 in partnership with Color Red Records and features the single That’s What’s Up with Funk-LEGEND Bootsy Collins. \nIn addition to recording and performing with MojoFlo\, he also leads The Walter K  jazz-soul quartet\, served as music director for Ivan Kane’s World-Famous Forty Deuce Burlesque Show and has recorded with many talented artists\, most recently being featured on the RJD2 album The Fun Ones.
URL:https://iconjl.com/event/walter-k-from-mojoflo-2/
LOCATION:ICON Jazz Lounge\, 1135 N High St\, Columbus\, OH\, 43201\, United States
ATTACH;FMTTYPE=image/webp:https://iconjl.com/wp-content/uploads/2025/06/Walter-K-from-Mojoflo.webp
END:VEVENT
END:VCALENDAR