BEGIN:VCALENDAR
VERSION:2.0
PRODID:-//ICON Jazz Lounge - ECPv6.15.17//NONSGML v1.0//EN
CALSCALE:GREGORIAN
METHOD:PUBLISH
X-WR-CALNAME:ICON Jazz Lounge
X-ORIGINAL-URL:https://iconjl.com
X-WR-CALDESC:Events for ICON Jazz Lounge
REFRESH-INTERVAL;VALUE=DURATION:PT1H
X-Robots-Tag:noindex
X-PUBLISHED-TTL:PT1H
BEGIN:VTIMEZONE
TZID:America/New_York
BEGIN:DAYLIGHT
TZOFFSETFROM:-0500
TZOFFSETTO:-0400
TZNAME:EDT
DTSTART:20240310T070000
END:DAYLIGHT
BEGIN:STANDARD
TZOFFSETFROM:-0400
TZOFFSETTO:-0500
TZNAME:EST
DTSTART:20241103T060000
END:STANDARD
BEGIN:DAYLIGHT
TZOFFSETFROM:-0500
TZOFFSETTO:-0400
TZNAME:EDT
DTSTART:20250309T070000
END:DAYLIGHT
BEGIN:STANDARD
TZOFFSETFROM:-0400
TZOFFSETTO:-0500
TZNAME:EST
DTSTART:20251102T060000
END:STANDARD
BEGIN:DAYLIGHT
TZOFFSETFROM:-0500
TZOFFSETTO:-0400
TZNAME:EDT
DTSTART:20260308T070000
END:DAYLIGHT
BEGIN:STANDARD
TZOFFSETFROM:-0400
TZOFFSETTO:-0500
TZNAME:EST
DTSTART:20261101T060000
END:STANDARD
END:VTIMEZONE
BEGIN:VEVENT
DTSTART;VALUE=DATE:20250913
DTEND;VALUE=DATE:20250914
DTSTAMP:20260425T164840
CREATED:20250620T011741Z
LAST-MODIFIED:20250620T052541Z
UID:797-1757721600-1757807999@iconjl.com
SUMMARY:Ragan Whiteside (National Artist)
DESCRIPTION:Flute-playing soul-jazz phenomenon Ragan Whiteside has become one of the genre’s most consistently dynamic and popular artists. Thanks to her incredible skill and creativity on her chosen instrument\, as well as her charismatic presence on stage\, Whiteside is at the top of her game. That was demonstrated in October 2022\, when she became the first artist to win the competitive Best Contemporary Jazz Artist Award at the inaugural Jazz Music Awards\, held at the Cobb Energy Centre in Atlanta. Whiteside is also a 2023 NAACP Image Award Nominee and four-time nominee for the Smooth Jazz Network’s Best Artist Award. \nThat distinction is well-deserved\, as the Atlanta-based musician\, songwriter\, and vocalist has become one of very few women players to excel in the male-dominated instrumental sphere\, garnering ten consecutive Top Ten Billboard airplay singles by 2024. And she’s done it as an independent artist\, releasing projects on Randis Music\, the label she founded with her husband\, producer\, and composer Dennis Johnson. \nRagan’s 7th album\, RAGAN will be released in 2025. The first single\, “Steppin’ Out\,” is heating up the radio charts and is available on all digital download and streaming platforms\, including Spotify\, Apple Music\, Tidal\, Pandora\, Deezer\, and more. Joining Ragan on this high-energy track is Rich Harrison a.k.a. the artist RAH (Evelyn Champagne King\, Atlantic Starr) on drums and Phil Hamilton (Luther Vandross\, Anita Baker\, Al Jarreau) on guitar. \nListen to the first single\, “Steppin’ Out” HERE. \nHer previous full-length project\, 2022’s Thrill Ride\, demonstrates Whiteside’s breathtaking virtuosity and melodic skills on a thrilling journey through a landscape of dynamic grooves. The project features eight songs\, which are largely produced by her longtime collaborators Dennis Johnson and Bob Baldwin. Other producers include Chris “Big Dog” Davis on the sexy update of Stevie Wonder’s “Don’t You Worry Bout A Thing\,” and James Lloyd of the veteran group Pieces Of A Dream\, who contributes “A Toast At Sunset” as writer and keyboardist as well. The title track\, “Thrill Ride\,” peaked at No. 1 on five radio charts\, including the Billboard Smooth Jazz Chart\, Mediabase\, the Smooth Jazz Network\, Radiowave and Groove Jazz Music.
URL:https://iconjl.com/event/ragan-whiteside/
LOCATION:ICON Jazz Lounge\, 1135 N High St\, Columbus\, OH\, 43201\, United States
ATTACH;FMTTYPE=image/webp:https://iconjl.com/wp-content/uploads/2025/06/Ragan-Whiteside.webp
END:VEVENT
END:VCALENDAR