BEGIN:VCALENDAR
VERSION:2.0
PRODID:-//ICON Jazz Lounge - ECPv6.15.17//NONSGML v1.0//EN
CALSCALE:GREGORIAN
METHOD:PUBLISH
X-WR-CALNAME:ICON Jazz Lounge
X-ORIGINAL-URL:https://iconjl.com
X-WR-CALDESC:Events for ICON Jazz Lounge
REFRESH-INTERVAL;VALUE=DURATION:PT1H
X-Robots-Tag:noindex
X-PUBLISHED-TTL:PT1H
BEGIN:VTIMEZONE
TZID:America/New_York
BEGIN:DAYLIGHT
TZOFFSETFROM:-0500
TZOFFSETTO:-0400
TZNAME:EDT
DTSTART:20240310T070000
END:DAYLIGHT
BEGIN:STANDARD
TZOFFSETFROM:-0400
TZOFFSETTO:-0500
TZNAME:EST
DTSTART:20241103T060000
END:STANDARD
BEGIN:DAYLIGHT
TZOFFSETFROM:-0500
TZOFFSETTO:-0400
TZNAME:EDT
DTSTART:20250309T070000
END:DAYLIGHT
BEGIN:STANDARD
TZOFFSETFROM:-0400
TZOFFSETTO:-0500
TZNAME:EST
DTSTART:20251102T060000
END:STANDARD
BEGIN:DAYLIGHT
TZOFFSETFROM:-0500
TZOFFSETTO:-0400
TZNAME:EDT
DTSTART:20260308T070000
END:DAYLIGHT
BEGIN:STANDARD
TZOFFSETFROM:-0400
TZOFFSETTO:-0500
TZNAME:EST
DTSTART:20261101T060000
END:STANDARD
END:VTIMEZONE
BEGIN:VEVENT
DTSTART;VALUE=DATE:20251025
DTEND;VALUE=DATE:20251026
DTSTAMP:20260425T151328
CREATED:20250718T183515Z
LAST-MODIFIED:20250718T213832Z
UID:1068-1761350400-1761436799@iconjl.com
SUMMARY:Deon Yates (National Artist)
DESCRIPTION:Experience the mesmerizing talent of Deon Yates\, an award-winning contemporary jazz saxophonist known for his soulful melodies\, dynamic performances\, and chart-topping hits. With a unique sound blending smooth jazz\, R&B\, and funk\, Deon Yates has captivated audiences worldwide. \nHis fusion of smooth jazz with elements of funk and R&B creates a sound that is both refreshing and timeless. \nDeon Yates began his solo career in 2009 when he competed against up and coming contemporary jazz artist from all over the United States at the Capital Jazz Challenge in Columbia\, MD. Although he did not win the competition\, he was named runner-up. This gave him the drive and determination to pursue his solo career further. With the exposure garnered from the competition and being called on stage to perform with Rick Braun and Richard Elliot at the Capital Jazz Festival\, Deon sparked the interest of U.S. Music Enterprises\, LLC. They asked Deon if they could feature his song\, “Freeway\,” on their “Jazz Infusion-Session 1” compilation album. The project was released on May 23\, 2010 and marked the first time Deon’s music went international. \nDeon spent the next couple of years performing and honing his craft. Thanks to his performances at the Capital Jazz Festival\, Deon became a regular fixture with the house band on the Capital Jazz Super Cruise. With that experience and exposure\, you could often find Deon on stage with artists like Nick Colionne\, Paul Brown\, Lin Rountree\, Marion Meadows and Marc Antoine to name a few.
URL:https://iconjl.com/event/deon-yates-national-artist/
LOCATION:ICON Jazz Lounge\, 1135 N High St\, Columbus\, OH\, 43201\, United States
ATTACH;FMTTYPE=image/webp:https://iconjl.com/wp-content/uploads/2025/07/Deon-Yates.webp
END:VEVENT
END:VCALENDAR