BEGIN:VCALENDAR
VERSION:2.0
PRODID:-//ICON Jazz Lounge - ECPv6.15.17//NONSGML v1.0//EN
CALSCALE:GREGORIAN
METHOD:PUBLISH
X-WR-CALNAME:ICON Jazz Lounge
X-ORIGINAL-URL:https://iconjl.com
X-WR-CALDESC:Events for ICON Jazz Lounge
REFRESH-INTERVAL;VALUE=DURATION:PT1H
X-Robots-Tag:noindex
X-PUBLISHED-TTL:PT1H
BEGIN:VTIMEZONE
TZID:America/New_York
BEGIN:DAYLIGHT
TZOFFSETFROM:-0500
TZOFFSETTO:-0400
TZNAME:EDT
DTSTART:20250309T070000
END:DAYLIGHT
BEGIN:STANDARD
TZOFFSETFROM:-0400
TZOFFSETTO:-0500
TZNAME:EST
DTSTART:20251102T060000
END:STANDARD
BEGIN:DAYLIGHT
TZOFFSETFROM:-0500
TZOFFSETTO:-0400
TZNAME:EDT
DTSTART:20260308T070000
END:DAYLIGHT
BEGIN:STANDARD
TZOFFSETFROM:-0400
TZOFFSETTO:-0500
TZNAME:EST
DTSTART:20261101T060000
END:STANDARD
BEGIN:DAYLIGHT
TZOFFSETFROM:-0500
TZOFFSETTO:-0400
TZNAME:EDT
DTSTART:20270314T070000
END:DAYLIGHT
BEGIN:STANDARD
TZOFFSETFROM:-0400
TZOFFSETTO:-0500
TZNAME:EST
DTSTART:20271107T060000
END:STANDARD
END:VTIMEZONE
BEGIN:VEVENT
DTSTART;VALUE=DATE:20260801
DTEND;VALUE=DATE:20260802
DTSTAMP:20260423T193841
CREATED:20250607T062530Z
LAST-MODIFIED:20260218T091924Z
UID:177-1785542400-1785628799@iconjl.com
SUMMARY:Positive Vibe Band
DESCRIPTION:Positive Vibe Band is a multi-genre band with over 30yrs of experience collectively based out of Cincinnati that performs Jazz\, Blues\, Smooth R&B and Funk. \nWe have performed throughout Ohio & Kentucky including several years at the Columbus Rib&Jazzfest next to National artists such as Stephanie Mills\, Maysa and Boney James.
URL:https://iconjl.com/event/positive-vibe-band/
LOCATION:TBD\, Columbus\, OH\, United States
ATTACH;FMTTYPE=image/webp:https://iconjl.com/wp-content/uploads/2025/06/Positive-Vibe-Band.webp
END:VEVENT
END:VCALENDAR