BEGIN:VCALENDAR
VERSION:2.0
PRODID:-//ICON Jazz Lounge - ECPv6.15.17//NONSGML v1.0//EN
CALSCALE:GREGORIAN
METHOD:PUBLISH
X-WR-CALNAME:ICON Jazz Lounge
X-ORIGINAL-URL:https://iconjl.com
X-WR-CALDESC:Events for ICON Jazz Lounge
REFRESH-INTERVAL;VALUE=DURATION:PT1H
X-Robots-Tag:noindex
X-PUBLISHED-TTL:PT1H
BEGIN:VTIMEZONE
TZID:America/New_York
BEGIN:DAYLIGHT
TZOFFSETFROM:-0500
TZOFFSETTO:-0400
TZNAME:EDT
DTSTART:20250309T070000
END:DAYLIGHT
BEGIN:STANDARD
TZOFFSETFROM:-0400
TZOFFSETTO:-0500
TZNAME:EST
DTSTART:20251102T060000
END:STANDARD
BEGIN:DAYLIGHT
TZOFFSETFROM:-0500
TZOFFSETTO:-0400
TZNAME:EDT
DTSTART:20260308T070000
END:DAYLIGHT
BEGIN:STANDARD
TZOFFSETFROM:-0400
TZOFFSETTO:-0500
TZNAME:EST
DTSTART:20261101T060000
END:STANDARD
BEGIN:DAYLIGHT
TZOFFSETFROM:-0500
TZOFFSETTO:-0400
TZNAME:EDT
DTSTART:20270314T070000
END:DAYLIGHT
BEGIN:STANDARD
TZOFFSETFROM:-0400
TZOFFSETTO:-0500
TZNAME:EST
DTSTART:20271107T060000
END:STANDARD
END:VTIMEZONE
BEGIN:VEVENT
DTSTART;VALUE=DATE:20260815
DTEND;VALUE=DATE:20260816
DTSTAMP:20260423T194347
CREATED:20250921T034514Z
LAST-MODIFIED:20260218T091819Z
UID:1153-1786752000-1786838399@iconjl.com
SUMMARY:Sharon Rae North (National Artist)
DESCRIPTION:Sharon ’s taken her talents across the United States and internationally\, sharing and showcasing her vocal style and subtle confidence and her combination of seriousness and playfulness during shows. \nHer last EP Sincerely Yours\, also produced by Big Dog\, dropped in July 2016 and had singles charting globally. The project made the initial ballot for the 59th Annual Grammy Awards and two of the five songs were Billboard contenders. \nSharon puts on a fabulous performance as a headliner and an opener. She has opened for many national acts\, including Bob James\, Joe Sample and the Jazz Crusaders\, Patti LaBelle\, Four80East\, and many others.
URL:https://iconjl.com/event/sharon-rae-north/
LOCATION:TBD\, Columbus\, OH\, United States
ATTACH;FMTTYPE=image/jpeg:https://iconjl.com/wp-content/uploads/2025/09/Sharon-Rae-North-2-scaled.jpg
END:VEVENT
END:VCALENDAR