BEGIN:VCALENDAR
VERSION:2.0
PRODID:-//ICON Jazz Lounge - ECPv6.15.17//NONSGML v1.0//EN
CALSCALE:GREGORIAN
METHOD:PUBLISH
X-ORIGINAL-URL:https://iconjl.com
X-WR-CALDESC:Events for ICON Jazz Lounge
REFRESH-INTERVAL;VALUE=DURATION:PT1H
X-Robots-Tag:noindex
X-PUBLISHED-TTL:PT1H
BEGIN:VTIMEZONE
TZID:America/New_York
BEGIN:DAYLIGHT
TZOFFSETFROM:-0500
TZOFFSETTO:-0400
TZNAME:EDT
DTSTART:20250309T070000
END:DAYLIGHT
BEGIN:STANDARD
TZOFFSETFROM:-0400
TZOFFSETTO:-0500
TZNAME:EST
DTSTART:20251102T060000
END:STANDARD
BEGIN:DAYLIGHT
TZOFFSETFROM:-0500
TZOFFSETTO:-0400
TZNAME:EDT
DTSTART:20260308T070000
END:DAYLIGHT
BEGIN:STANDARD
TZOFFSETFROM:-0400
TZOFFSETTO:-0500
TZNAME:EST
DTSTART:20261101T060000
END:STANDARD
BEGIN:DAYLIGHT
TZOFFSETFROM:-0500
TZOFFSETTO:-0400
TZNAME:EDT
DTSTART:20270314T070000
END:DAYLIGHT
BEGIN:STANDARD
TZOFFSETFROM:-0400
TZOFFSETTO:-0500
TZNAME:EST
DTSTART:20271107T060000
END:STANDARD
END:VTIMEZONE
BEGIN:VEVENT
DTSTART;VALUE=DATE:20260925
DTEND;VALUE=DATE:20260926
DTSTAMP:20260423T211927
CREATED:20250607T034735Z
LAST-MODIFIED:20260408T220246Z
UID:97-1790294400-1790380799@iconjl.com
SUMMARY:Dee Lucas (National Artist)
DESCRIPTION:National recording artist and saxophonist Dee Lucas has been noted as the most consistent and hardest working indie artist in the entire music industry while steadily growing his brand and fan base beginning with Remembrance in 2004. Thereafter\, it has been a steady showcase of unique stylings with Something to Ride 2 (2007)\, Standing Room Only (2010)\, Rebirth of the Smooth (2012)\, The Smooth Factor (2014)\, Going Deeper (2016)\, The Sweet Spot (2017)\, Going Left (2018)\, the critically-acclaimed The Time Is Now (2020)\, the outstanding offering of No Boundaries (2023)\, and now his much anticipated upcoming release title “Twenty” which celebrates his 20 years as solo recording artist. This captivating artist is a 3-time Billboard smooth jazz artist with four #1 hits across various smooth jazz charts.
URL:https://iconjl.com/event/dee-lucas-national-artist/
LOCATION:Hilton Canopy Hotel Downtown\, 77 E Nationwide Blvd\, Columbus\, OH\, 43215\, United States
ATTACH;FMTTYPE=image/webp:https://iconjl.com/wp-content/uploads/2025/06/Dee-Lucas.webp
END:VEVENT
END:VCALENDAR