BEGIN:VCALENDAR
VERSION:2.0
PRODID:-//ICON Jazz Lounge - ECPv6.15.17//NONSGML v1.0//EN
CALSCALE:GREGORIAN
METHOD:PUBLISH
X-WR-CALNAME:ICON Jazz Lounge
X-ORIGINAL-URL:https://iconjl.com
X-WR-CALDESC:Events for ICON Jazz Lounge
REFRESH-INTERVAL;VALUE=DURATION:PT1H
X-Robots-Tag:noindex
X-PUBLISHED-TTL:PT1H
BEGIN:VTIMEZONE
TZID:America/New_York
BEGIN:DAYLIGHT
TZOFFSETFROM:-0500
TZOFFSETTO:-0400
TZNAME:EDT
DTSTART:20240310T070000
END:DAYLIGHT
BEGIN:STANDARD
TZOFFSETFROM:-0400
TZOFFSETTO:-0500
TZNAME:EST
DTSTART:20241103T060000
END:STANDARD
BEGIN:DAYLIGHT
TZOFFSETFROM:-0500
TZOFFSETTO:-0400
TZNAME:EDT
DTSTART:20250309T070000
END:DAYLIGHT
BEGIN:STANDARD
TZOFFSETFROM:-0400
TZOFFSETTO:-0500
TZNAME:EST
DTSTART:20251102T060000
END:STANDARD
BEGIN:DAYLIGHT
TZOFFSETFROM:-0500
TZOFFSETTO:-0400
TZNAME:EDT
DTSTART:20260308T070000
END:DAYLIGHT
BEGIN:STANDARD
TZOFFSETFROM:-0400
TZOFFSETTO:-0500
TZNAME:EST
DTSTART:20261101T060000
END:STANDARD
END:VTIMEZONE
BEGIN:VEVENT
DTSTART;VALUE=DATE:20250726
DTEND;VALUE=DATE:20250727
DTSTAMP:20260424T104424
CREATED:20250607T042531Z
LAST-MODIFIED:20250727T193359Z
UID:136-1753488000-1753574399@iconjl.com
SUMMARY:J. White (National Artist)
DESCRIPTION:Saxophonist J. White is an internationally recognized Billboard artist\, songwriter and producer who commands your attention with captivating performances and amazing\, soulful sounds. He is a passionate\, determined\, and gifted artist. \nA native of Detroit Michigan\, J. White is a vibrant\, versatile performer whose influences range from Gerald Albright\, Cannonball Adderly\, and Kirk Whalum to Charlie Parker\, Dexter Gordon\, and Grover Washington Jr. His own style and presentation borrow from the Pastelle and Rosewood movement\, the contemporary urban scene\, and youthful expressions from around the globe. J. White’s music is without a doubt soulfully driven and technically motivated\, intertwining the sounds of Smooth Jazz with a hint of Straight-Ahead to deliver a sensual\, harmonic\, and melodic sound and he is creating his own destiny with his unique\, all-around talent. \nJ. White has already performed alongside many industry greats such as Warren Hill\, Nick Colionne\, Peter White\, Euge Groove\, Eric Darius\, Eric Roberson\, P.J. Morton\, Najee\, Smokie Norful and Dave Hollister. J. White took runner up at the Warren Hill Sax Summit\, competing with saxophonist from around the world. As a result of his success\, he was invited to perform at several major jazz festivals to include the Arizona Jazz Festival\, Las Vegas Jazz Festival\, Jazz at the Creek\, and the San Diego Smooth Jazz Festival for two consecutive years. J. White’s music and stellar performances began a movement reaching jazz venues and festivals around the country.
URL:https://iconjl.com/event/j-white/
LOCATION:ICON Jazz Lounge\, 1135 N High St\, Columbus\, OH\, 43201\, United States
ATTACH;FMTTYPE=image/webp:https://iconjl.com/wp-content/uploads/2025/06/J.-White.webp
END:VEVENT
BEGIN:VEVENT
DTSTART;VALUE=DATE:20250705
DTEND;VALUE=DATE:20250706
DTSTAMP:20260424T104424
CREATED:20250620T022122Z
LAST-MODIFIED:20250727T193447Z
UID:809-1751673600-1751759999@iconjl.com
SUMMARY:The KT Collaborative
DESCRIPTION:Collaborate: To work jointly with others in an intellectual or meaningful endeavor. \nKelvin (KT) Thompson counts amongst his blessings of life\, the gift of music. KT is currently leading and supporting a range of music/arts endeavors as a bandleader and producer of music artsoriented events around the metro Atlanta community and beyond. \nHis current music and artistic engagements include serving as the founder and music director of the well-regarded Atlanta-based Neo-Soul ensemble\, “The KT Collaborative.” He also serves as a pipe organist for historic Big Bethel AME church in downtown Atlanta. The Collaborative plays a wide variety of musical genres including Jazz\, Neo-Soul\, Pop\, R+B\, Afro Latin-Caribbean\, light rock and Classical. Their performances also typically infuse spoken word\, dance and visual art for a truly enjoyable music and artistic experience!! \nHe and “The Collaborative” perform regularly around the Atlanta region including the High Museum of Art\, The Illuminarium Atlanta\, the City of Atlanta\, Alpharetta Arts Center\, The Perfect Note\, Marietta\, Velvet Note\, Alpharetta as well as in Charlotte\, NC and other various jazz and arts\nvenues. He also plays and collaborates when traveling around the world including most recently Cartagena\, Columbia and previously Rio Grande\, Puerto Rico. \nThe KT Collaborative was born of his frequent collaborations with numerous artistic and talented musician friends. As “collaboration” infers cooperative or shared objectives to reach a common goal\, he and The Collaborative are pleased to bring their musical gifts to audiences locally and globally. For their ICON Jazz Lounge engagement\, KT is joined by featured vocalist Myrna Clayton\, Brandon Austin-trumpet\, Anthony Daniel-bass\, and Ron Collier-drums. \nPlease welcome The KT Collaborative\, “Jazz Presented Uniquely With Excellence”.
URL:https://iconjl.com/event/the-kt-collaborative/
LOCATION:ICON Jazz Lounge\, 1135 N High St\, Columbus\, OH\, 43201\, United States
ATTACH;FMTTYPE=image/webp:https://iconjl.com/wp-content/uploads/2025/06/The-KT-Collaborative-black.webp
END:VEVENT
BEGIN:VEVENT
DTSTART;VALUE=DATE:20250628
DTEND;VALUE=DATE:20250629
DTSTAMP:20260424T104424
CREATED:20250607T035529Z
LAST-MODIFIED:20250621T102945Z
UID:102-1751068800-1751155199@iconjl.com
SUMMARY:Hank Bilal (National Artist)
DESCRIPTION:GRAMMY Nominated trombonist\, Hank Bilal was born in Winnsboro\, South Carolina into a musical family where his uncles on his mother’s side all played instruments and his father played drums professionally. As with many of our southern based musicians Hank Bilal started in church\, in the youth choir. And at home there was always the music of gospel greats being heard like The Canton Spirituals\, Mississippi Mass Choir\, John Pee Kee and The Winans to name a few! \nHank’s formal music education began in middle school. Later Hank went on the earn his Bachelor of Arts in music performance. Before turning in the direction of more contemporary jazz Hank spent many years in listening to classic jazz where he was exposed to the giants of the jazz style. \nHank Bilal has shared a performance platform with many great artists\, from performing on the GRAMMY awards with Aretha Franklin to Gerald Albright\, Chaka Khan\, Christopher William and The Clark Sisters! Beyond being a veteran trombonist\, the GRAMMY Nominated artist is also fluent in other performing areas as a pianist\, singer and other brass instruments! \nYou can also add music producer as Hank Bilal has produced multiple albums; to include\, The Black Aquarius\, Brassential Elements\, A Bona Fide Christmas\, and Beneath the Covers\, which features some of the best in smooth jazz! \nHank Bilal is also an educator and has been teaching elementary grades preK3 through 6th at Martin de Porres Catholic School since 2015. In addition to him being an educator he serves as an active member of community service groups\, Alpha Phi Alpha\, and Kappa Kappa Psi.
URL:https://iconjl.com/event/hank-bilal-national-artist/
LOCATION:ICON Jazz Lounge\, 1135 N High St\, Columbus\, OH\, 43201\, United States
ATTACH;FMTTYPE=image/webp:https://iconjl.com/wp-content/uploads/2025/06/Hank-Bilal.webp
END:VEVENT
BEGIN:VEVENT
DTSTART;VALUE=DATE:20250627
DTEND;VALUE=DATE:20250628
DTSTAMP:20260424T104424
CREATED:20250607T050025Z
LAST-MODIFIED:20250620T213729Z
UID:151-1750982400-1751068799@iconjl.com
SUMMARY:Marcus Johnson (National Artist)
DESCRIPTION:Marcus Johnson is an independent Billboard-ranked musician\, NAACP Image Award nominee\, owner of FLO Brands and FLO Wine\, JD and MBA\, philanthropist\, father\, friend… and so much more! \nWhat is FLO (For the Love Of)? It represents the journey through which we discover those things in life that fulfill us and make each experience a little better. For the love of life\, self\, happiness\, passion\, joy…love itself. \nWhile pursuing his JD and MBA at Georgetown\, he independently produced and distributed his first CD (Lessons in Love)\, which sold more than 40\,000 units; a phenomenal success for an unknown independent artist’s debut release. This album helped him launch his career as a renowned jazz keyboardist/pianist\, and later\, he released his second CD (Inter Alia)\, with staggering success \nThis success caught the attention of Black Entertainment Television (BET) founder and businessman Robert L. Johnson\, who invested and partnered with Marcus to establish Marimelj Entertainment Group. Under their partnership\, MEG’s label Three Keys Music housed Studio 8121\, a full-service recording studio\, and two music publishing companies: Marimelj Music Publishing and Three Keys Music Publishing. \nAs head of Three Keys Music\, Johnson produced and released on the Three Keys Music label national jazz artists: Michael Lington\, Jaared Arosemena\, Bobby Lyle\, Nick Colionne\, R&B singer\, Alyson Williams\, neo-soul songstress\, Zahzarah; and smooth jazz Saxophonists Phillip Martin and Brian Lenair. \nTo date\, Marcus has released more than fifteen Billboard charted CDs\, and has the distinction of having his groundbreaking 2008 Billboard Top 20 Contemporary Jazz FLO (For the Love Of) Anthology\, which consisted of three distinct CDs — FLO Chill\, FLO Romance and FLO Standards – all chart Top 10 on Billboard Contemporary Jazz Charts simultaneously. \nThe release of Poetically Justified (2009) and This is How I Rock (2011)\, which were Top 20 Contemporary Jazz CDs\, solidified Marcus Johnson as the heir apparent to the funky urban groove music style and sound made famous by legendary jazz greats\, George Duke and Herbie Hancock.
URL:https://iconjl.com/event/marcus-johnson-national-artist/
LOCATION:ICON Jazz Lounge\, 1135 N High St\, Columbus\, OH\, 43201\, United States
ATTACH;FMTTYPE=image/webp:https://iconjl.com/wp-content/uploads/2025/06/Marcus-Johnson.webp
END:VEVENT
BEGIN:VEVENT
DTSTART;VALUE=DATE:20250620
DTEND;VALUE=DATE:20250621
DTSTAMP:20260424T104424
CREATED:20250607T044726Z
LAST-MODIFIED:20250608T051945Z
UID:145-1750377600-1750463999@iconjl.com
SUMMARY:Latin Jazz Players (LJP)
DESCRIPTION:LJP (Latin Jazz Players) is from Lorain\, OH\, the band started back in 2009 playing smooth Latin jazz music from musicians like Peter White\, Marc Antoine\, Jeff Lorber\, Carlos Santana and many others. LJP got together at church and played together for many years. Now LJP is performing in many festivals around the area and now have their own CD available!\n​\nOur music will give you the sensation of being in a Caribbean island\, dancing your heart away or just sitting on a beach and enjoying your favorite drink! With the combination of an acoustic & electric guitar\, our music gives you a smooth jazz effect with a little Latin flavor in it.
URL:https://iconjl.com/event/latin-jazz-players-ljp/
LOCATION:ICON Jazz Lounge\, 1135 N High St\, Columbus\, OH\, 43201\, United States
ATTACH;FMTTYPE=image/webp:https://iconjl.com/wp-content/uploads/2025/06/Latin-Jazz-Players.webp
END:VEVENT
BEGIN:VEVENT
DTSTART;VALUE=DATE:20250614
DTEND;VALUE=DATE:20250615
DTSTAMP:20260424T104424
CREATED:20250607T050407Z
LAST-MODIFIED:20250620T215537Z
UID:157-1749859200-1749945599@iconjl.com
SUMMARY:The Marvin Gaye Motown Tribute Band
DESCRIPTION:Formed in 2017\, the Marvin Gaye Motown Tribute Band is a powerhouse ensemble dedicated to honoring the legacy of the legendary soul icon\, Marvin Gaye\, and the golden era of Motown. Featuring top-tier musicians with a deep love for classic soul\, the band includes standout talents on bass\, drums\, horns\, and keys\, creating a rich\, authentic sound that brings timeless hits to life. \nThe group came together out of a shared passion for the music that shaped a generation—aiming to preserve its spirit while bringing new energy to the stage. Over the years\, they’ve performed at premier venues and events\, including jazz lounges\, music festivals\, and private events. Notable appearances include sets at Icon Jazz Lounge\, soul-themed festivals\, and high-end corporate and wedding events. \nTheir soulful performances celebrate Marvin Gaye’s legacy with faithful renditions of hits like “What’s Going On\,” “Sexual Healing\,” and “Let’s Get It On\,” making every show a nostalgic and uplifting experience.
URL:https://iconjl.com/event/the-marvin-gaye-motown-tribute-band/
LOCATION:ICON Jazz Lounge\, 1135 N High St\, Columbus\, OH\, 43201\, United States
ATTACH;FMTTYPE=image/webp:https://iconjl.com/wp-content/uploads/2025/06/The-Marvin-Gay-Tribute-Band.webp
END:VEVENT
BEGIN:VEVENT
DTSTART;VALUE=DATE:20250613
DTEND;VALUE=DATE:20250614
DTSTAMP:20260424T104424
CREATED:20250607T062628Z
LAST-MODIFIED:20250620T215719Z
UID:179-1749772800-1749859199@iconjl.com
SUMMARY:Tina Thompson
DESCRIPTION:Tina Thompson is a versatile and dynamic singer originally from Cleveland\, Ohio\, born into a family of musicians. From a young age\, she showcased her musical talent\, singing at just two years old and performing solos by age six alongside her two siblings. Raised in a rich musical environment\, Tina’s mother\, grandmother\, and uncles were all singers\, pianists\, and songwriters. \nTina attended The Cleveland School of Arts and later pursued further studies at Morgan State University\, where she honed her craft in genres ranging from jazz\, chorale\, soul\, to classical music. Her impressive vocal range and musical versatility have allowed her to perform in prestigious venues worldwide\, including Carnegie Hall and many Orchestras collaborating with choirs and groups. \nTina’s musical preferences lean toward soul\, jazz\, and gospel\, but she enjoys performing across a variety of genres. Whether singing at her church or in front of a lively crowd at her lounge\, Tina’s music continues to resonate with audiences\, making her a cherished figure in the local music scene.
URL:https://iconjl.com/event/tina-thompson/
LOCATION:ICON Jazz Lounge\, 1135 N High St\, Columbus\, OH\, 43201\, United States
ATTACH;FMTTYPE=image/webp:https://iconjl.com/wp-content/uploads/2025/06/Tina-Thompson.webp
END:VEVENT
BEGIN:VEVENT
DTSTART;VALUE=DATE:20250502
DTEND;VALUE=DATE:20250503
DTSTAMP:20260424T104424
CREATED:20250603T082127Z
LAST-MODIFIED:20251011T062258Z
UID:71-1746144000-1746230399@iconjl.com
SUMMARY:Adam Hawley (National Artist)
DESCRIPTION:Guitarist and Producer Adam Hawley has burst onto the contemporary jazz scene as a celebrated and innovative artist\, composer and band leader. \nHandpicked by Maurice White (founder of Earth\, Wind\, & Fire) he first debuted on the legend’s label Kalimba Music. In all\, Adam’s four albums and work as a producer has spawned an incredible 17 Billboard #1 Hits. \nHis fifth and current album “What Christmas Means To Me\,” is his first holiday offering and has proved to be an exciting twist on the Christmas music genre.  Adam will perform a dynamic combination of scintillating unique holiday arrangements\, original contemporary jazz selections. and some of your favourites from Stevie Wonder\, EWF\, Demi Lovato\, Gap Band\, Chris Brown\, John Legend\, and more.
URL:https://iconjl.com/event/adam-hawley-national-artist/
LOCATION:ICON Jazz Lounge\, 1135 N High St\, Columbus\, OH\, 43201\, United States
ATTACH;FMTTYPE=image/webp:https://iconjl.com/wp-content/uploads/2025/06/Adam-Hawley.webp
END:VEVENT
END:VCALENDAR