BEGIN:VCALENDAR
VERSION:2.0
PRODID:-//ICON Jazz Lounge - ECPv6.15.17//NONSGML v1.0//EN
CALSCALE:GREGORIAN
METHOD:PUBLISH
X-ORIGINAL-URL:https://iconjl.com
X-WR-CALDESC:Events for ICON Jazz Lounge
REFRESH-INTERVAL;VALUE=DURATION:PT1H
X-Robots-Tag:noindex
X-PUBLISHED-TTL:PT1H
BEGIN:VTIMEZONE
TZID:America/New_York
BEGIN:DAYLIGHT
TZOFFSETFROM:-0500
TZOFFSETTO:-0400
TZNAME:EDT
DTSTART:20240310T070000
END:DAYLIGHT
BEGIN:STANDARD
TZOFFSETFROM:-0400
TZOFFSETTO:-0500
TZNAME:EST
DTSTART:20241103T060000
END:STANDARD
BEGIN:DAYLIGHT
TZOFFSETFROM:-0500
TZOFFSETTO:-0400
TZNAME:EDT
DTSTART:20250309T070000
END:DAYLIGHT
BEGIN:STANDARD
TZOFFSETFROM:-0400
TZOFFSETTO:-0500
TZNAME:EST
DTSTART:20251102T060000
END:STANDARD
BEGIN:DAYLIGHT
TZOFFSETFROM:-0500
TZOFFSETTO:-0400
TZNAME:EDT
DTSTART:20260308T070000
END:DAYLIGHT
BEGIN:STANDARD
TZOFFSETFROM:-0400
TZOFFSETTO:-0500
TZNAME:EST
DTSTART:20261101T060000
END:STANDARD
END:VTIMEZONE
BEGIN:VEVENT
DTSTART;VALUE=DATE:20251017
DTEND;VALUE=DATE:20251018
DTSTAMP:20260425T133559
CREATED:20250815T190756Z
LAST-MODIFIED:20250815T190823Z
UID:1092-1760659200-1760745599@iconjl.com
SUMMARY:Riley Richard (National Artist)
DESCRIPTION:Born and raised in Cleveland\, Ohio\, Riley Richard is an inspired jazz saxophonist who has plans on making his contribution to the jazz genre. Having studied at Cleveland School of The Arts\, Cuyahoga community college and Cleveland state University\, Riley was trained in the traditional sense of jazz analyzing the styles of John Coltrane\, Charlie Parker and Sonny Sttit.  \nAlthough having a heavy interest in sports at a early age\, Riley was encouraged by his parents to take piano lessons in which led him to learn the flute and eventually the Alto Saxophone. His first professional gig was at the age of 14\, playing with Cleveland’s legendary organist Eddie Baccus SR. From then on Riley has shared the stage with the likes of Najee\, Brian Simpson\, Kim waters and Boney James and the list continues.  \nIn 2016 Riley decided to work on his solo career and released his first single “Family Ties” produced and co-written by Darren Rahn. “Family Ties” was #2 on the smooth jazz media base chart and #18 on Billboard Smooth Jazz. His single spent 15 weeks on the top 30 Billboard smooth jazz charts. Riley’s first EP was released early summer of 2017 which was a huge success and since then Riley has had two back to back #1 singles in “Captivate Me” which was released in 2019 and his latest single “Don’t Wanna Let Go” which was released in 2020. Riley shocked the smooth jazz world with a stellar rendition of “Superstar” which was produced by top producer Barry Eastmond earning Riley a top 10 song on billboard and record breaking streaming numbers across all streaming platforms and with his recent release “Dance for Romance” Riley has been in heavy Rotation with smooth jazz radio.
URL:https://iconjl.com/event/riley-richard-national-artist/
LOCATION:ICON Jazz Lounge\, 1135 N High St\, Columbus\, OH\, 43201\, United States
ATTACH;FMTTYPE=image/webp:https://iconjl.com/wp-content/uploads/2025/08/Riley-Richard.webp
END:VEVENT
BEGIN:VEVENT
DTSTART;VALUE=DATE:20251018
DTEND;VALUE=DATE:20251019
DTSTAMP:20260425T133559
CREATED:20250708T071838Z
LAST-MODIFIED:20250904T024714Z
UID:1031-1760745600-1760831999@iconjl.com
SUMMARY:Mike Phillips (National Artist)
DESCRIPTION:World renowned saxophonist Mike Phillips is known as one of the most electrifying instrumentalists today. Mike is the first musician signed by Michael Jordan to the Nike Jordan Brand\, home of the Air Jordan\, and is the only musician in the world to have recorded and toured with the legendary “Big Three” of American soul and pop music: Michael Jackson\, Prince\, and Stevie Wonder\, not only as a member of the band\, but as a featured soloist. \nIn 2023\, Mike Phillips launched Keep It Moving Music (KIMM)\, under the SRG Jazz label imprint. He was also recently named Sr. VP of SRG Jazz at the SRG-ILS Group (distributed by UMG). He is a recipient of an Honorary Doctor of Music Business and Entrepreneurship degree\, a recipient of The President’s Lifetime Achievement Award and The Georgia Citizen Award\, which is the highest state-level honor given to a citizen. \nMike toured for nearly two years as part of the band for ‘Michael Jackson The IMMORTAL Tour’ by Cirque du Soleil. And music superstar Prince knew what audiences around the world know… when Mike Phillips puts his saxophone to his lips\, magic is about to happen.  \nMike’s solo albums “You Have Reached Mike Phillips”\, “Uncommon Denominator”\, “M.P.3”\, “Pulling Off The Covers”\, and his latest\, “Mike Phillips”\, all debuted in the Top #5 on the Billboard Contemporary Jazz Albums Chart. As 2024 continues to make its ways into our lives\, be prepared as Mike Phillips will continue to bless our ears and souls with amazing new music from himself and from artists signed to his KIMM label imprint.
URL:https://iconjl.com/event/mike-phillipsnational-artist/
LOCATION:ICON Jazz Lounge\, 1135 N High St\, Columbus\, OH\, 43201\, United States
ATTACH;FMTTYPE=image/webp:https://iconjl.com/wp-content/uploads/2025/07/Mike-Phillips.webp
END:VEVENT
BEGIN:VEVENT
DTSTART;VALUE=DATE:20251025
DTEND;VALUE=DATE:20251026
DTSTAMP:20260425T133559
CREATED:20250718T183515Z
LAST-MODIFIED:20250718T213832Z
UID:1068-1761350400-1761436799@iconjl.com
SUMMARY:Deon Yates (National Artist)
DESCRIPTION:Experience the mesmerizing talent of Deon Yates\, an award-winning contemporary jazz saxophonist known for his soulful melodies\, dynamic performances\, and chart-topping hits. With a unique sound blending smooth jazz\, R&B\, and funk\, Deon Yates has captivated audiences worldwide. \nHis fusion of smooth jazz with elements of funk and R&B creates a sound that is both refreshing and timeless. \nDeon Yates began his solo career in 2009 when he competed against up and coming contemporary jazz artist from all over the United States at the Capital Jazz Challenge in Columbia\, MD. Although he did not win the competition\, he was named runner-up. This gave him the drive and determination to pursue his solo career further. With the exposure garnered from the competition and being called on stage to perform with Rick Braun and Richard Elliot at the Capital Jazz Festival\, Deon sparked the interest of U.S. Music Enterprises\, LLC. They asked Deon if they could feature his song\, “Freeway\,” on their “Jazz Infusion-Session 1” compilation album. The project was released on May 23\, 2010 and marked the first time Deon’s music went international. \nDeon spent the next couple of years performing and honing his craft. Thanks to his performances at the Capital Jazz Festival\, Deon became a regular fixture with the house band on the Capital Jazz Super Cruise. With that experience and exposure\, you could often find Deon on stage with artists like Nick Colionne\, Paul Brown\, Lin Rountree\, Marion Meadows and Marc Antoine to name a few.
URL:https://iconjl.com/event/deon-yates-national-artist/
LOCATION:ICON Jazz Lounge\, 1135 N High St\, Columbus\, OH\, 43201\, United States
ATTACH;FMTTYPE=image/webp:https://iconjl.com/wp-content/uploads/2025/07/Deon-Yates.webp
END:VEVENT
END:VCALENDAR