BEGIN:VCALENDAR
VERSION:2.0
PRODID:-//ICON Jazz Lounge - ECPv6.15.17//NONSGML v1.0//EN
CALSCALE:GREGORIAN
METHOD:PUBLISH
X-WR-CALNAME:ICON Jazz Lounge
X-ORIGINAL-URL:https://iconjl.com
X-WR-CALDESC:Events for ICON Jazz Lounge
REFRESH-INTERVAL;VALUE=DURATION:PT1H
X-Robots-Tag:noindex
X-PUBLISHED-TTL:PT1H
BEGIN:VTIMEZONE
TZID:America/New_York
BEGIN:DAYLIGHT
TZOFFSETFROM:-0500
TZOFFSETTO:-0400
TZNAME:EDT
DTSTART:20240310T070000
END:DAYLIGHT
BEGIN:STANDARD
TZOFFSETFROM:-0400
TZOFFSETTO:-0500
TZNAME:EST
DTSTART:20241103T060000
END:STANDARD
BEGIN:DAYLIGHT
TZOFFSETFROM:-0500
TZOFFSETTO:-0400
TZNAME:EDT
DTSTART:20250309T070000
END:DAYLIGHT
BEGIN:STANDARD
TZOFFSETFROM:-0400
TZOFFSETTO:-0500
TZNAME:EST
DTSTART:20251102T060000
END:STANDARD
BEGIN:DAYLIGHT
TZOFFSETFROM:-0500
TZOFFSETTO:-0400
TZNAME:EDT
DTSTART:20260308T070000
END:DAYLIGHT
BEGIN:STANDARD
TZOFFSETFROM:-0400
TZOFFSETTO:-0500
TZNAME:EST
DTSTART:20261101T060000
END:STANDARD
END:VTIMEZONE
BEGIN:VEVENT
DTSTART;VALUE=DATE:20251206
DTEND;VALUE=DATE:20251207
DTSTAMP:20260425T101033
CREATED:20250904T063108Z
LAST-MODIFIED:20250904T063108Z
UID:1130-1764979200-1765065599@iconjl.com
SUMMARY:Mike Williams on Sax
DESCRIPTION:Mike Williams on Sax\, a Billboard-Charting Inspirational Saxophonist\, who has built a remarkable reputation with his soulful performances and eclectic musical style. Drawing influences from Smooth Jazz\, R&B\, Pop\, Oldies\, Funk\, Fusion\, Indie Rock\, and Gospel; Mike has carved out a unique sound\, that blends diverse genres seamlessly. Originally from Cincinnati\, Ohio; Mike has called Northwest Ohio home for the past 12 years; where he continues to connect with audiences through his heartfelt music. With a successful debut to Smooth Jazz Radio; Mike’s Single “Last Night” has been heard all across the globe and has remained comfortably on the Smooth Jazz Billboard’s Top 100 and countless other Top 100 Charts for several months. \nWith over 20 years of experience in Live Entertainment\, Mike’s versatility as a performer is unparalleled. He has graced a wide range of stages\, from intimate venues to large-scale arenas; and has become known for his ability to bring emotion and energy to any setting. His rendition of “The Star-Spangled Banner” has become a signature piece\, performed at numerous sporting events\, including: the Toledo Mud Hens\, Toledo Walleye\, The Ohio State University\, NCAA March Madness\, Monster Jam\, PGA TOUR Champions\, The Cleveland Guardians\, The Detroit Tigers\, and The Cleveland Cavaliers. \nIn addition to his solo work; Mike has had the privilege of opening for some of the biggest names in music\, including: Patti LaBelle\, Gwen Stefani\, The Zapp Band\, Bootsy Collins\, Jagged Edge\, Kim Burrell\, Ricky Dillard\, Johny Britt\, Peter Collins\, Twinkie Clark\, and the Dirty Dozen Brass Band. With a deep lover for cross-generational music; Mike’s commitment to blending musical styles is not just a reflection of his passion for innovation\, but also his desire to reach listeners from all walks of life.
URL:https://iconjl.com/event/mike-williams-on-sax/
LOCATION:ICON Jazz Lounge\, 1135 N High St\, Columbus\, OH\, 43201\, United States
ATTACH;FMTTYPE=image/webp:https://iconjl.com/wp-content/uploads/2025/09/Mike-Williams.webp
END:VEVENT
BEGIN:VEVENT
DTSTART;VALUE=DATE:20251212
DTEND;VALUE=DATE:20251213
DTSTAMP:20260425T101033
CREATED:20251107T181441Z
LAST-MODIFIED:20251112T200822Z
UID:1329-1765497600-1765583999@iconjl.com
SUMMARY:Warm December Notes - Featuring Adria Shahid & KB Evans
DESCRIPTION:Note: Doors open at 5:00pm for this special fundraising event.  Show time: 6:00pm – 9:00pm \nHosted by Dana Norwood Brown and emceed by comedian Stephon Raikett. Join us for this Fundraising Event featuring Adria Shahid and KB Evans! \nAdria Shahid \nColumbus vocalist and songwriter Adria Shahid blends smooth jazz\, R&B\, and heartfelt storytelling shaped by her musically gifted family. Her acclaimed debut album\, Waarrioress of Love\, explores love\, struggle\, and triumph\, resonating across international airwaves. Adria has shared stages with Ledisi\, Lalah Hathaway\, Eric Benét\, and Maysa\, and continues to perform with premier artists like Urban Jazz Coalition and NexLevel. From industry work to national performances\, Adria brings depth\, experience\, and emotional truth to every note. \nKB Evans \nChicago-born vocalist KB Evans is a soulful powerhouse whose gospel foundation expands into blues\, jazz\, R&B\, and classic soul. Singing since age five\, KB has performed around the world\, captivating audiences with her dynamic presence and emotionally rich voice. Whether on large stages or intimate settings\, KB delivers authenticity\, joy\, and a deep connection that moves listeners.
URL:https://iconjl.com/event/warm-december-notes-featuring-adria-shahid-kb-evans/
LOCATION:ICON Jazz Lounge\, 1135 N High St\, Columbus\, OH\, 43201\, United States
ATTACH;FMTTYPE=image/webp:https://iconjl.com/wp-content/uploads/2025/11/Adria-Shahid-Stephon-Raickett-KB-Evans-scaled.webp
END:VEVENT
BEGIN:VEVENT
DTSTART;VALUE=DATE:20251231
DTEND;VALUE=DATE:20260101
DTSTAMP:20260425T101033
CREATED:20251011T062233Z
LAST-MODIFIED:20251011T063414Z
UID:1191-1767139200-1767225599@iconjl.com
SUMMARY:New Year's Eve Performance by Adam Hawley (National Artist)
DESCRIPTION:Guitarist and Producer Adam Hawley has burst onto the contemporary jazz scene as a celebrated and innovative artist\, composer and band leader. \nHandpicked by Maurice White (founder of Earth\, Wind\, & Fire) he first debuted on the legend’s label Kalimba Music. In all\, Adam’s four albums and work as a producer has spawned an incredible 17 Billboard #1 Hits. \nHis fifth and current album “What Christmas Means To Me\,” is his first holiday offering and has proved to be an exciting twist on the Christmas music genre.  Adam will perform a dynamic combination of scintillating unique holiday arrangements\, original contemporary jazz selections. and some of your favourites from Stevie Wonder\, EWF\, Demi Lovato\, Gap Band\, Chris Brown\, John Legend\, and more.
URL:https://iconjl.com/event/adam-hawley-national-artist-2/
LOCATION:ICON Jazz Lounge\, 1135 N High St\, Columbus\, OH\, 43201\, United States
ATTACH;FMTTYPE=image/webp:https://iconjl.com/wp-content/uploads/2025/06/Adam-Hawley.webp
END:VEVENT
END:VCALENDAR