BEGIN:VCALENDAR
VERSION:2.0
PRODID:-//ICON Jazz Lounge - ECPv6.15.17//NONSGML v1.0//EN
CALSCALE:GREGORIAN
METHOD:PUBLISH
X-ORIGINAL-URL:https://iconjl.com
X-WR-CALDESC:Events for ICON Jazz Lounge
REFRESH-INTERVAL;VALUE=DURATION:PT1H
X-Robots-Tag:noindex
X-PUBLISHED-TTL:PT1H
BEGIN:VTIMEZONE
TZID:America/New_York
BEGIN:DAYLIGHT
TZOFFSETFROM:-0500
TZOFFSETTO:-0400
TZNAME:EDT
DTSTART:20250309T070000
END:DAYLIGHT
BEGIN:STANDARD
TZOFFSETFROM:-0400
TZOFFSETTO:-0500
TZNAME:EST
DTSTART:20251102T060000
END:STANDARD
BEGIN:DAYLIGHT
TZOFFSETFROM:-0500
TZOFFSETTO:-0400
TZNAME:EDT
DTSTART:20260308T070000
END:DAYLIGHT
BEGIN:STANDARD
TZOFFSETFROM:-0400
TZOFFSETTO:-0500
TZNAME:EST
DTSTART:20261101T060000
END:STANDARD
BEGIN:DAYLIGHT
TZOFFSETFROM:-0500
TZOFFSETTO:-0400
TZNAME:EDT
DTSTART:20270314T070000
END:DAYLIGHT
BEGIN:STANDARD
TZOFFSETFROM:-0400
TZOFFSETTO:-0500
TZNAME:EST
DTSTART:20271107T060000
END:STANDARD
END:VTIMEZONE
BEGIN:VEVENT
DTSTART;VALUE=DATE:20260510
DTEND;VALUE=DATE:20260511
DTSTAMP:20260423T145549
CREATED:20251123T233618Z
LAST-MODIFIED:20260221T013429Z
UID:1359-1778371200-1778457599@iconjl.com
SUMMARY:Lin Rountree (National Artist)
DESCRIPTION:Lin Rountree also known as The Soul-Trumpeter\, is a formidable presence in the music industry. With 9 solo projects and 24 chart-topping Billboard singles (including FIVE #1 hits)\, he has established himself as a leading innovator in the Instrumental Soul/R&B genre. His collaborations with top R&B and Contemporary Jazz artists showcase his extraordinary talent and versatility. \nLin began his musical journey at just 11 years old\, driven by a passion for the trumpet. He honed his skills at the Duke Ellington School for Performing Arts in Washington\, D.C. After high school\, he joined the renowned Marching 100 at Florida A&M University\, performing under directors including William P. Foster and Dr. Julian White. It was during this formative period that Lin’s love for jazz blossomed as he studied some of the greats such as Miles Davis\, Freddie Hubbard\, Lee Morgan\, and Quincy Jones. \nAfter earning his Bachelors of Science degree in Business Administration from FAMU\, Lin found his musical home in Detroit. In 2004\, Lin released his debut CD\, GROOVETREE\, which received international acclaim. This was followed by two more successful albums\, SUMTHIN’ GOOD and SOULTREE\, The Soul-Jazz Experience. \nLin’s talent caught the attention of major label Trippin’ N Rhythm Records\, leading to a collaboration where he wrote and co-produced 6 more projects: SERENDIPITOUS\, SOULFUNKY\, STRONGER STILL\, FLUID\, THE MESSAGE\, and his latest CD\, THE CHILL. \nBeyond his solo career\, Lin has worked with notable artists across various genres\, including KEM\, Dwele\, Conya Doss\, Tony Terry\, and George Duke. In 2012\, he made a memorable appearance in the film “SPARKLE\,” alongside icons Whitney Houston and Jordin Sparks. \nAs a polished songwriter\, producer\, and recording artist\, he captivates audiences with his outstanding live performances.
URL:https://iconjl.com/event/lin-rountree-national-artist/
LOCATION:TBD\, Columbus\, OH\, United States
ATTACH;FMTTYPE=image/webp:https://iconjl.com/wp-content/uploads/2025/11/Lin-Rountree.webp
END:VEVENT
END:VCALENDAR